BEGIN:VCALENDAR
VERSION:2.0
PRODID:-//Istituto Ramazzini - ECPv5.5.0.1//NONSGML v1.0//EN
CALSCALE:GREGORIAN
METHOD:PUBLISH
X-WR-CALNAME:Istituto Ramazzini
X-ORIGINAL-URL:https://www.istitutoramazzini.it
X-WR-CALDESC:Eventi per Istituto Ramazzini
BEGIN:VTIMEZONE
TZID:Europe/Paris
BEGIN:DAYLIGHT
TZOFFSETFROM:+0100
TZOFFSETTO:+0200
TZNAME:CEST
DTSTART:20210328T010000
END:DAYLIGHT
BEGIN:STANDARD
TZOFFSETFROM:+0200
TZOFFSETTO:+0100
TZNAME:CET
DTSTART:20211031T010000
END:STANDARD
BEGIN:DAYLIGHT
TZOFFSETFROM:+0100
TZOFFSETTO:+0200
TZNAME:CEST
DTSTART:20220327T010000
END:DAYLIGHT
BEGIN:STANDARD
TZOFFSETFROM:+0200
TZOFFSETTO:+0100
TZNAME:CET
DTSTART:20221030T010000
END:STANDARD
END:VTIMEZONE
BEGIN:VEVENT
DTSTART;TZID=Europe/Paris:20211008T080000
DTEND;TZID=Europe/Paris:20211010T170000
DTSTAMP:20211007T045439
CREATED:20210604T121924Z
LAST-MODIFIED:20210604T124423Z
UID:9214-1633680000-1633885200@www.istitutoramazzini.it
SUMMARY:La Transiberiana nel Parco della Majella
DESCRIPTION:Tre giorni in Abruzzo\, alla scoperta dello straordinario Parco della Majella\, con un itinerario panoramico a bordo del treno storico che attraversa quei luoghi. Questa è la proposta della sezione soci di Monterenzio dell’Istituto Ramazzini\, per raccogliere risorse a sostegno delle attività di prevenzione e ricerca. La gita è programmata nei giorni dall’8 al 10 ottobre 2021\, qui è possibile scaricare il volantino con tutte le informazioni. Per informazioni: Nicoletta 3297662792.
URL:https://www.istitutoramazzini.it/evento/9214/
ATTACH;FMTTYPE=image/jpeg:https://www.istitutoramazzini.it/wp-content/uploads/2021/06/trenoparco_1.jpg
END:VEVENT
BEGIN:VEVENT
DTSTART;VALUE=DATE:20211017
DTEND;VALUE=DATE:20211018
DTSTAMP:20211007T045439
CREATED:20210624T093749Z
LAST-MODIFIED:20211005T153603Z
UID:9278-1634428800-1634515199@www.istitutoramazzini.it
SUMMARY:Macerata e le Grotte di Camerano
DESCRIPTION:Una domenica sospesa tra ‘500 e ‘600\, a curiosare tra i monumenti della città di Macerata\, con tappa finale nella città sotterranea delle grotte di Camerano: è questa l’iniziativa della sezione sanlazzarese dell’Istituto Ramazzini per raccogliere risorse a sostegno della ricerca indipendente e delle attività di prevenzione.  La gita è fissata per domenica 26 settembre 2021. Qui la locandina con tutti i dettagli\, per informazioni rivolgersi a Giusi (360884207)\, Alfea (3396735923) e Leda (3381154683).
URL:https://www.istitutoramazzini.it/evento/macerata-e-le-grotte-di-camerano/
LOCATION:Macerata
ATTACH;FMTTYPE=image/jpeg:https://www.istitutoramazzini.it/wp-content/uploads/2021/06/camerano.jpg
END:VEVENT
BEGIN:VEVENT
DTSTART;TZID=Europe/Paris:20211021T210000
DTEND;TZID=Europe/Paris:20211021T223000
DTSTAMP:20211007T045439
CREATED:20211005T091928Z
LAST-MODIFIED:20211005T091928Z
UID:9439-1634850000-1634855400@www.istitutoramazzini.it
SUMMARY:La prevenzione come stile di vita
DESCRIPTION:“La prevenzione come stile di vita” è il titolo dell’iniziativa sulla prevenzione oncologica per le donne in programma giovedì 21 ottobre alle 21 al Centro culturale Mercato\, in piazza Marconi 1 ad Argenta. L’iniziativa è organizzata dalla sezione di Argenta dell’Istituto Ramazzini\, in collaborazione con la farmacia Marangoni\, Martha-Care e progetto Farmacia Oncologica\, con il patrocinio del Comune di Argenta. All’incontro parteciperanno la dott.ssa Simona Panzacchi (Ricercatrice al Centro di ricerca sul cancro “Cesare Maltoni”)\, la dott.ssa Angela Guaragna (Oncologa\, Direttore sanitario dei poliambulatori dell’Istituto Ramazzini) e la dott.ssa Chiara Boschieri (fondatrice di Martha-Care e coordinatrice progetto Farmacia Oncologica). Introdurrà la serata la dott.ssa Denis Foligatti (presidente della sezione di Argenta dell’Istituto Ramazzini). In ottemperanza alle norme Covid\, è necessario prenotare il posto al numero 0532/330276. All’ingresso sarà richiesto di esibire il green pass. Qui il volantino con tutti i dettagli.
URL:https://www.istitutoramazzini.it/evento/la-prevenzione-come-stile-di-vita/
LOCATION:Argenta
ATTACH;FMTTYPE=image/png:https://www.istitutoramazzini.it/wp-content/uploads/2021/10/Schermata-2021-10-05-alle-11.16.43.png
END:VEVENT
BEGIN:VEVENT
DTSTART;VALUE=DATE:20211024
DTEND;VALUE=DATE:20211025
DTSTAMP:20211007T045439
CREATED:20210624T094029Z
LAST-MODIFIED:20211005T153756Z
UID:9282-1635033600-1635119999@www.istitutoramazzini.it
SUMMARY:Cremona e Fontanellato
DESCRIPTION:Una domenica alla scoperta delle città di Cremona e Fontanellato: è questa l’iniziativa della sezione sanlazzarese dell’Istituto Ramazzini per raccogliere risorse a sostegno della ricerca indipendente e delle attività di prevenzione.  La gita è fissata per domenica 24 ottobre 2021. Qui la locandina con tutti i dettagli\, per informazioni rivolgersi a Giusi (360884207)\, Alfea (3396735923) e Leda (3381154683).
URL:https://www.istitutoramazzini.it/evento/cremona-e-fontanellato/
LOCATION:Cremona
ATTACH;FMTTYPE=image/jpeg:https://www.istitutoramazzini.it/wp-content/uploads/2021/06/fontanellato.jpg
END:VEVENT
BEGIN:VEVENT
DTSTART;TZID=Europe/Paris:20211024T123000
DTEND;TZID=Europe/Paris:20211024T143000
DTSTAMP:20211007T045439
CREATED:20211005T093721Z
LAST-MODIFIED:20211005T094402Z
UID:9445-1635078600-1635085800@www.istitutoramazzini.it
SUMMARY:Pranzo di raccolta fondi al Laghetto della Noce
DESCRIPTION:La sezione soci di Monterenzio dell’Istituto Ramazzini organizza per domenica 24 ottobre un pranzo di raccogliere fondi a sostegno delle attività di ricerca e prevenzione dell’Istituto Ramazzini. L’appuntamento è per le 12\,3o al ristorante del Laghetto della Noce\, in via del Grigio 1 a Noce di Mercatale. La quoto pro capite è di 25 euro. Per motivi organizzativi e nel pieno rispetto delle normative del distanziamento tra le persone si accettano prenotazioni entro e non oltre il 20 ottobre. Per prenotare\, telefonare nelle ore serali a Nicoletta (051-6556021/347 9781604) o a Rosetta (338 1374245). L’ingresso sarà riservato ai soli possessori del Green Pass. Qui  il volantino con tutti i dettagli. 
URL:https://www.istitutoramazzini.it/evento/pranzo-di-raccolta-fondi-al-laghetto-della-noce/
LOCATION:Noce di Mercatale
ATTACH;FMTTYPE=image/jpeg:https://www.istitutoramazzini.it/wp-content/uploads/2019/07/getlstd-property-photo-1.jpg
END:VEVENT
BEGIN:VEVENT
DTSTART;VALUE=DATE:20211027
DTEND;VALUE=DATE:20211028
DTSTAMP:20211007T045439
CREATED:20211005T151449Z
LAST-MODIFIED:20211006T083336Z
UID:9472-1635292800-1635379199@www.istitutoramazzini.it
SUMMARY:Ambiente e Salute: un rapporto in crisi
DESCRIPTION:“Ambiente e Salute: un rapporto in crisi” è sul titolo dell’evento di divulgazione organizzato dall’Istituto Ramazzini e in programma per mercoledì 27 ottobre alle 18 al Grand Hotel Majestic di Bologna\, in via dell’Indipendenza 8. L’evento si aprirà con la conferenza del dott. Daniele Mandrioli\, direttore dell’Area Ricerca dell’Istituto Ramazzini\, e della dott.ssa Angela Guaragna\, direttore sanitario del poliambulatorio e del centro clinico dell’Istituto Ramazzini. A seguire\, un piccolo momento di spettacolo\, diretto da Umberto Conti\, con le esibizioni di Iskra Menarini\, Stefano Colli accompagnato al piano dal M° Giancarlo Di Maria\, il duo Luca Bruno project e Ares Signorello alla chitarra\, Salvo Giordano\, Emma Morini\, Tonino Raffaele\, Chiara Bincoletto\, Marcello Romeo\, Davide Pagnini\, Valentina Livi. La serata si concluderà con un apericena. L’evento si terrà nel rispetto delle normative Covid\, pertanto per accedere sarà indispensabile esibire il green pass. Per prenotazioni chiamare il numero 340/7494579. Qui la locandina con tutti i dettagli. \n 
URL:https://www.istitutoramazzini.it/evento/ambiente-e-salute-un-rapporto-in-crisi/
LOCATION:Bologna
ATTACH;FMTTYPE=image/png:https://www.istitutoramazzini.it/wp-content/uploads/2021/10/Schermata-2021-10-05-alle-17.13.47.png
END:VEVENT
BEGIN:VEVENT
DTSTART;VALUE=DATE:20211030
DTEND;VALUE=DATE:20211031
DTSTAMP:20211007T045439
CREATED:20210604T124315Z
LAST-MODIFIED:20210928T140214Z
UID:9218-1635552000-1635638399@www.istitutoramazzini.it
SUMMARY:Tra Vigevano e l'Abbazia di Morimondo
DESCRIPTION:Una giornata a Morimondo\, con visita guidata alla famosa Abbazia Cistercense risalente al 1182\, al cui interno si possono ammirare il chiostro\, la chiesa\, il monastero ed il coro ligneo. Poi trasferimento a Vigevano e pranzo in ristorante con menù tipico. Questa è la proposta della sezione soci di Monterenzio dell’Istituto Ramazzini\, per raccogliere risorse a sostegno delle attività di prevenzione e ricerca. La gita è programmata per sabato 30 ottobre 2021\, qui è possibile scaricare il volantino con tutti i dettagli. Per informazioni: Nicoletta 3297662792.
URL:https://www.istitutoramazzini.it/evento/tra-vigevano-e-labbazia-di-morimondo/
LOCATION:Morimondo
ATTACH;FMTTYPE=image/jpeg:https://www.istitutoramazzini.it/wp-content/uploads/2021/06/lato-nord2.jpg
END:VEVENT
BEGIN:VEVENT
DTSTART;VALUE=DATE:20211107
DTEND;VALUE=DATE:20211108
DTSTAMP:20211007T045439
CREATED:20210624T095428Z
LAST-MODIFIED:20211006T084421Z
UID:9286-1636243200-1636329599@www.istitutoramazzini.it
SUMMARY:Pranzo di pesce a Senigallia
DESCRIPTION:Una domenica sulla rotta di Ancona\, con tappa a Senigallia per l’immancabile pranzo di pesce: è questa l’iniziativa della sezione sanlazzarese dell’Istituto Ramazzini per raccogliere risorse a sostegno della ricerca indipendente e delle attività di prevenzione.  La gita è fissata per domenica 7 novembre 2021. Qui il volantino con tutte le informazioni\, per informazioni rivolgersi a Giusi (360884207)\, Alfea (3396735923) e Leda (3381154683).
URL:https://www.istitutoramazzini.it/evento/pranzo-di-pesce-a-senigallia/
LOCATION:Senigallia
ATTACH;FMTTYPE=image/jpeg:https://www.istitutoramazzini.it/wp-content/uploads/2021/06/Senigallia-rotonda01.jpg
END:VEVENT
BEGIN:VEVENT
DTSTART;VALUE=DATE:20211113
DTEND;VALUE=DATE:20211114
DTSTAMP:20211007T045439
CREATED:20210604T125505Z
LAST-MODIFIED:20210928T140728Z
UID:9225-1636761600-1636847999@www.istitutoramazzini.it
SUMMARY:Gita del pesce a Marotta
DESCRIPTION:Una giornata nelle Marche\, con tappa a Senigallia e visita al Museo di storia della mezzadria\, nell’affascinante complesso di Santa Maria delle Grazie di fine Quattrocento\, poi a Castello di Scapezzano\, famosa per la produzione di ottimo olio extra vergine\, con visita ad un locale frantoio. Infine\, pranzo di pesce a Marotta. Questa è la proposta della sezione soci di Monterenzio dell’Istituto Ramazzini\, per raccogliere risorse a sostegno delle attività di prevenzione e ricerca. La gita è programmata per sabato 13 novembre 2021\, qui è possibile scaricare il volantino con tutti i dettagli. Per informazioni: Nicoletta 3297662792.
URL:https://www.istitutoramazzini.it/evento/gita-del-pesce-a-marotta-2/
ATTACH;FMTTYPE=image/jpeg:https://www.istitutoramazzini.it/wp-content/uploads/2021/06/177421_scapezzano_ralf.jpg
END:VEVENT
BEGIN:VEVENT
DTSTART;TZID=Europe/Paris:20211114T120000
DTEND;TZID=Europe/Paris:20211114T143000
DTSTAMP:20211007T045439
CREATED:20210928T150402Z
LAST-MODIFIED:20210928T150506Z
UID:9426-1636891200-1636900200@www.istitutoramazzini.it
SUMMARY:Sagra della lasagna a San Lazzaro
DESCRIPTION:La sezione “Teresa Silvagni” di San Lazzaro dell’Istituto Ramazzini in collaborazione con il Circolo Arci San Lazzaro organizza per domenica 14 novembre 2021 la Sagra delle Lasagna\, il pranzo di solidarietà che raccoglie fondi per le attività di ricerca e prevenzione dell’Istituto Ramazzini. L’appuntamento è per le ore 12 alla Sala 77 del circolo\, in via Bellaria 7 a San Lazzaro. La quota pro capite è di 25 euro per gli adulti\, 22 euro per l’asporto\, 18 euro per i bambini da 5 a 10 anni\, gratuito per i bambini fino a 4 anni. La prenotazione è obbligatoria entro il 10 novembre ai numeri  360884207 ( Giusi)\, 3381154683 (Leda )\, 339 8948252 (Anna). Qui la locandina con tutti i dettagli. L’evento si terrà nel rispetto delle norme anticovid\, per cui si ricorda ai partecipanti che sarà necessario esibire il green pass.
URL:https://www.istitutoramazzini.it/evento/sagra-della-lasagna-a-san-lazzaro/
LOCATION:San Lazzaro di Savena
ATTACH;FMTTYPE=image/jpeg:https://www.istitutoramazzini.it/wp-content/uploads/2019/11/a-sala-06-77.jpg
END:VEVENT
BEGIN:VEVENT
DTSTART;VALUE=DATE:20211128
DTEND;VALUE=DATE:20211129
DTSTAMP:20211007T045439
CREATED:20210624T100447Z
LAST-MODIFIED:20211005T135706Z
UID:9290-1638057600-1638143999@www.istitutoramazzini.it
SUMMARY:Alla scoperta del Castello dei Sorci
DESCRIPTION:Una domenica in Toscana\, con tappe ad Anghiari\, al Castello dei Sorci e pranzo ad Arezzo: è questa l’iniziativa della sezione sanlazzarese dell’Istituto Ramazzini per raccogliere risorse a sostegno della ricerca indipendente e delle attività di prevenzione.  La gita è fissata per domenica 28 novembre 2021. Il programma è in via di definizione\, per informazioni rivolgersi a Giusi (360884207)\, Alfea (3396735923) e Leda (3381154683). Qui la locandina con tutti i dettagli.
URL:https://www.istitutoramazzini.it/evento/alla-scoperta-del-castello-dei-sorci/
LOCATION:Arezzo
ATTACH;FMTTYPE=image/jpeg:https://www.istitutoramazzini.it/wp-content/uploads/2021/06/sorci.jpg
END:VEVENT
BEGIN:VEVENT
DTSTART;VALUE=DATE:20211204
DTEND;VALUE=DATE:20211205
DTSTAMP:20211007T045439
CREATED:20210928T103041Z
LAST-MODIFIED:20210928T135154Z
UID:9412-1638576000-1638662399@www.istitutoramazzini.it
SUMMARY:Rotta verso Bobbio e Grazzano Visconti
DESCRIPTION:Una giornata a Bobbio\, antichissimo borgo monumentale nel Piacentino\, che appare in lontananza con lo svettare dei suoi campanili\, quello del Duomo e della basilica di San Colombano e di San Lorenzo al di sopra della linea armoniosa del caratteristico Ponte Gobbo. Poi dopo il pranzo\, rotta verso Grazzano Visconti con i suoi particolarissimi mercatini natalizi. Questa è la proposta della sezione soci di Monterenzio dell’Istituto Ramazzini\, per raccogliere risorse a sostegno delle attività di prevenzione e ricerca. La gita è programmata per sabato 4 dicembre 2021\, qui è possibile scaricare il volantino con tutti i dettagli. Per informazioni: Nicoletta 3297662792.
URL:https://www.istitutoramazzini.it/evento/rotta-verso-bobbio-e-grazzano-visconti/
ATTACH;FMTTYPE=image/jpeg:https://www.istitutoramazzini.it/wp-content/uploads/2021/09/grazzano_visconti_borgo.jpg
END:VEVENT
BEGIN:VEVENT
DTSTART;VALUE=DATE:20211212
DTEND;VALUE=DATE:20211213
DTSTAMP:20211007T045439
CREATED:20210624T100753Z
LAST-MODIFIED:20210928T140938Z
UID:9294-1639267200-1639353599@www.istitutoramazzini.it
SUMMARY:Tra Belluno e  Pedavena
DESCRIPTION:Una domenica alla scoperta di Belluno e Pedavena\, con pranzo nel parco e visita ai mercatini di Natale: è questa l’iniziativa della sezione sanlazzarese dell’Istituto Ramazzini per raccogliere risorse a sostegno della ricerca indipendente e delle attività di prevenzione.  La gita è fissata per domenica 12 dicembre 2021. Il programma è in via di definizione\, per informazioni rivolgersi a Giusi (360884207)\, Alfea (3396735923) e Leda (3381154683).
URL:https://www.istitutoramazzini.it/evento/tra-belluno-pedavena/
LOCATION:Belluno
ATTACH;FMTTYPE=image/jpeg:https://www.istitutoramazzini.it/wp-content/uploads/2021/06/belluno.jpg
END:VEVENT
BEGIN:VEVENT
DTSTART;VALUE=DATE:20211230
DTEND;VALUE=DATE:20220103
DTSTAMP:20211007T045439
CREATED:20211005T122917Z
LAST-MODIFIED:20211005T122917Z
UID:9460-1640822400-1641167999@www.istitutoramazzini.it
SUMMARY:Capodanno in Abruzzo
DESCRIPTION:Un capodanno in Abruzzo\, alla scoperta degli antichi borghi e dei sapori caratteristici di questa straordinaria regione.  Questa è la proposta della sezione soci di Monterenzio dell’Istituto Ramazzini\, per raccogliere risorse a sostegno delle attività di prevenzione e ricerca. La partenza è programmata per giovedì 30 dicembre 2021\, il rientro per domenica 2 gennaio. In programma anche il gran cenone di fine anno con musica dal vivo e balli. Qui è possibile scaricare il volantino con tutti i dettagli. Per informazioni: Nicoletta 3297662792.
URL:https://www.istitutoramazzini.it/evento/capodanno-in-abruzzo-2/
LOCATION:Abruzzo
ATTACH;FMTTYPE=image/jpeg:https://www.istitutoramazzini.it/wp-content/uploads/2021/10/fireworks-1102872_1280.jpg
END:VEVENT
BEGIN:VEVENT
DTSTART;VALUE=DATE:20220122
DTEND;VALUE=DATE:20220123
DTSTAMP:20211007T045439
CREATED:20211005T100603Z
LAST-MODIFIED:20211005T100721Z
UID:9454-1642809600-1642895999@www.istitutoramazzini.it
SUMMARY:Alla scoperta delle ceramiche di Faenza
DESCRIPTION:Una giornata a Faenza\, alla scoperta del Museo Internazionale della Ceramica e delle straordinarie collezioni che custodisce. Questa è la proposta della sezione soci di Monterenzio dell’Istituto Ramazzini\, per raccogliere risorse a sostegno delle attività di prevenzione e ricerca. La gita è programmata per sabato 22 gennaio 2022\, qui è possibile scaricare il volantino con tutti i dettagli. Per informazioni: Nicoletta 3297662792.
URL:https://www.istitutoramazzini.it/evento/alla-scoperta-delle-ceramiche-di-faenza/
LOCATION:Faenza
ATTACH;FMTTYPE=image/jpeg:https://www.istitutoramazzini.it/wp-content/uploads/2021/10/unnamed.jpg
END:VEVENT
END:VCALENDAR